Workbook

Sheet 1
A2: Информация по налоговым и неналоговым доходам в разрезе бюджетов Республики Калмыкия, поступивших на счет 03100 УФК по Республике Калмыкия по состоянию
A3: на 01 марта 2022 г.
G4: ед. измерения: рублей
A6: Наименование бюджетов муниципальных образований | C6: Всего | F6: Налоговые доходы | I6: Неналоговые доходы
C7: на 01.03.2021 | D7: на 01.03.2022 | E7: Темп роста, % | F7: на 01.03.2021 | G7: на 01.03.2022 | H7: Темп роста, % | I7: на 01.03.2021 | J7: на 01.03.2022 | K7: Темп роста, %
A8: Итого по бюджетам Городовиковского района: | C8: =SUM(F8,I8) -> 16584911 | D8: =SUM(G8,J8) -> 22202293 | E8: =D8/C8*100-100 -> 33.870439 | F8: 14805820 | G8: =[1]Табл.2.2!D9 -> 19276617 | H8: =G8/F8*100-100 -> 30.196216 | I8: 1779091 | J8: =[1]Табл.2.2!F9 -> 2925675.8 | K8: =J8/I8*100-100 -> 64.447785
A9: в том числе:
A10: Бюджет Городовиковского РМО | C10: =SUM(F10,I10) -> 11829588 | D10: =SUM(G10,J10) -> 16345422 | E10: =D10/C10*100-100 -> 38.174065 | F10: 10156558 | G10: =[1]Табл.2.2!D11 -> 13679328 | H10: =G10/F10*100-100 -> 34.684692 | I10: 1673030 | J10: =[1]Табл.2.2!F11 -> 2666093.8 | K10: =J10/I10*100-100 -> 59.357202
A11: Бюджеты ГМО, СМО: | C11: =SUM(F11,I11) -> 4755322.9 | D11: =SUM(G11,J11) -> 5856870.5 | E11: =D11/C11*100-100 -> 23.164517 | F11: 4649261.9 | G11: =[1]Табл.2.2!D12 -> 5597288.4 | H11: =G11/F11*100-100 -> 20.390905 | I11: 106061.05 | J11: =[1]Табл.2.2!F12 -> 259582.03 | K11: =J11/I11*100-100 -> 144.74775
A12: из них:
A13: 1 | B13: Бюджет Виноградненского СМО | C13: =SUM(F13,I13) -> 405892.54 | D13: =SUM(G13,J13) -> 697330.54 | E13: =D13/C13*100-100 -> 71.801763 | F13: 412017.4 | G13: =[1]Табл.2.2!D14 -> 696346.85 | H13: =G13/F13*100-100 -> 69.009088 | I13: -6124.86 | J13: =[1]Табл.2.2!F14 -> 983.69 | K13: =J13/I13*100-100 -> -116.06061
A14: 2 | B14: Бюджет Дружненского СМО | C14: =SUM(F14,I14) -> 218857.56 | D14: =SUM(G14,J14) -> 194284.81 | E14: =D14/C14*100-100 -> -11.227736 | F14: 214457.56 | G14: =[1]Табл.2.2!D15 -> 150337.6 | H14: =G14/F14*100-100 -> -29.898671 | I14: 4400 | J14: =[1]Табл.2.2!F15 -> 43947.21 | K14: ↑
A15: 3 | B15: Бюджет Лазаревского СМО | C15: =SUM(F15,I15) -> 198798.76 | D15: =SUM(G15,J15) -> 709715.58 | E15: =D15/C15*100-100 -> 257.00202 | F15: 198798.76 | G15: =[1]Табл.2.2!D16 -> 591289.87 | H15: =G15/F15*100-100 -> 197.43137 | I15: 0 | J15: =[1]Табл.2.2!F16 -> 118425.71 | K15: 0
A16: 4 | B16: Бюджет Пушкинского СМО | C16: =SUM(F16,I16) -> 169200.93 | D16: =SUM(G16,J16) -> 194690.65 | E16: =D16/C16*100-100 -> 15.064764 | F16: 169200.93 | G16: =[1]Табл.2.2!D17 -> 191325.09 | H16: =G16/F16*100-100 -> 13.075673 | I16: 0 | J16: =[1]Табл.2.2!F17 -> 3365.56 | K16: 0
A17: 5 | B17: Бюджет Розентальского СМО | C17: =SUM(F17,I17) -> 373208.84 | D17: =SUM(G17,J17) -> 350443.06 | E17: =D17/C17*100-100 -> -6.1000109 | F17: 373208.84 | G17: =[1]Табл.2.2!D18 -> 324857.16 | H17: =G17/F17*100-100 -> -12.955663 | I17: 0 | J17: =[1]Табл.2.2!F18 -> 25585.9 | K17: 0
A18: 6 | B18: Бюджет Южненского СМО | C18: =SUM(F18,I18) -> 179631.17 | D18: =SUM(G18,J18) -> 401777.75 | E18: =D18/C18*100-100 -> 123.66817 | F18: 179631.17 | G18: =[1]Табл.2.2!D19 -> 396093.32 | H18: =G18/F18*100-100 -> 120.50367 | I18: 0 | J18: =[1]Табл.2.2!F19 -> 5684.43 | K18: 0
A19: 7 | B19: Бюджет Городовиковского ГМО | C19: =SUM(F19,I19) -> 3209733.1 | D19: =SUM(G19,J19) -> 3308628.1 | E19: =D19/C19*100-100 -> 3.0810967 | F19: 3101947.2 | G19: =[1]Табл.2.2!D20 -> 3247038.6 | H19: =G19/F19*100-100 -> 4.6774284 | I19: 107785.91 | J19: =[1]Табл.2.2!F20 -> 61589.53 | K19: =J19/I19*100-100 -> -42.859387
A21: Итого по бюджетам Ики-Бурульского района: | C21: =SUM(F21,I21) -> 8835417.4 | D21: =SUM(G21,J21) -> 15577027 | E21: =D21/C21*100-100 -> 76.302102 | F21: 7736133.4 | G21: =[1]Табл.2.2!D22 -> 11836486 | H21: =G21/F21*100-100 -> 53.002605 | I21: 1099284 | J21: =[1]Табл.2.2!F22 -> 3740540.9 | K21: =J21/I21*100-100 -> 240.27067
A22: в том числе:
A23: Бюджет Ики-Бурульского РМО | C23: =SUM(F23,I23) -> 7733638 | D23: =SUM(G23,J23) -> 13502675 | E23: =D23/C23*100-100 -> 74.596676 | F23: 6675655 | G23: =[1]Табл.2.2!D24 -> 10041226 | H23: =G23/F23*100-100 -> 50.415599 | I23: 1057983 | J23: =[1]Табл.2.2!F24 -> 3461448.4 | K23: =J23/I23*100-100 -> 227.1743
A24: Бюджеты СМО: | C24: =SUM(F24,I24) -> 1101779.4 | D24: =SUM(G24,J24) -> 2074351.6 | E24: =D24/C24*100-100 -> 88.27287 | F24: 1060478.4 | G24: =[1]Табл.2.2!D25 -> 1795259.1 | H24: =G24/F24*100-100 -> 69.287672 | I24: 41301 | J24: =[1]Табл.2.2!F25 -> 279092.5 | K24: ↑
A25: их них:
A26: 1 | B26: Бюджет Багабурульского СМО | C26: =SUM(F26,I26) -> 52184.71 | D26: =SUM(G26,J26) -> 73730.35 | E26: =D26/C26*100-100 -> 41.287266 | F26: 51684.71 | G26: =[1]Табл.2.2!D27 -> 56080.35 | H26: =G26/F26*100-100 -> 8.5047203 | I26: 500 | J26: =[1]Табл.2.2!F27 -> 17650 | K26: ↑
A27: 2 | B27: Бюджет Зундатолгинского СМО | C27: =SUM(F27,I27) -> 38129.36 | D27: =SUM(G27,J27) -> 33925.95 | E27: =D27/C27*100-100 -> -11.024077 | F27: 38129.36 | G27: =[1]Табл.2.2!D28 -> 33925.95 | H27: =G27/F27*100-100 -> -11.024077 | I27: 0 | J27: =[1]Табл.2.2!F28 -> 0 | K27: 0
A28: 3 | B28: Бюджет Ики-Бурульского СМО | C28: =SUM(F28,I28) -> 574694.75 | D28: =SUM(G28,J28) -> 925222.39 | E28: =D28/C28*100-100 -> 60.993708 | F28: 571834.05 | G28: =[1]Табл.2.2!D29 -> 890422.39 | H28: =G28/F28*100-100 -> 55.713426 | I28: 2860.7 | J28: =[1]Табл.2.2!F29 -> 34800 | K28: ↑
A29: 4 | B29: Бюджет Кевюдовского СМО | C29: =SUM(F29,I29) -> 64125.8 | D29: =SUM(G29,J29) -> 167117.19 | E29: =D29/C29*100-100 -> 160.60835 | F29: 64125.8 | G29: =[1]Табл.2.2!D30 -> 167117.19 | H29: =G29/F29*100-100 -> 160.60835 | I29: 0 | J29: =[1]Табл.2.2!F30 -> 0 | K29: 0
A30: 5 | B30: Бюджет Манцынкецовского СМО | C30: =SUM(F30,I30) -> 12004.46 | D30: =SUM(G30,J30) -> 145153.57 | E30: ↑ | F30: 12004.46 | G30: =[1]Табл.2.2!D31 -> 145153.57 | H30: ↑ | I30: 0 | J30: =[1]Табл.2.2!F31 -> 0 | K30: 0
A31: 6 | B31: Бюджет Манычского СМО | C31: =SUM(F31,I31) -> 76731.18 | D31: =SUM(G31,J31) -> 219582.41 | E31: =D31/C31*100-100 -> 186.17103 | F31: 65008.18 | G31: =[1]Табл.2.2!D32 -> 76734.41 | H31: =G31/F31*100-100 -> 18.038084 | I31: 11723 | J31: =[1]Табл.2.2!F32 -> 142848 | K31: ↑
A32: 7 | B32: Бюджет Оргакинского СМО | C32: =SUM(F32,I32) -> 44683.91 | D32: =SUM(G32,J32) -> 93242.09 | E32: =D32/C32*100-100 -> 108.67039 | F32: 43404.85 | G32: =[1]Табл.2.2!D33 -> 76755.59 | H32: =G32/F32*100-100 -> 76.836436 | I32: 1279.06 | J32: =[1]Табл.2.2!F33 -> 16486.5 | K32: ↑
A33: 8 | B33: Бюджет Приманычского СМО | C33: =SUM(F33,I33) -> 17767.75 | D33: =SUM(G33,J33) -> 90144.59 | E33: =D33/C33*100-100 -> 407.3495 | F33: 17767.75 | G33: =[1]Табл.2.2!D34 -> 89144.59 | H33: =G33/F33*100-100 -> 401.72132 | I33: 0 | J33: =[1]Табл.2.2!F34 -> 1000 | K33: 0
A34: 9 | B34: Бюджет Светловского СМО | C34: =SUM(F34,I34) -> 31629.19 | D34: =SUM(G34,J34) -> 169451.48 | E34: =D34/C34*100-100 -> 435.74398 | F34: 30498.95 | G34: =[1]Табл.2.2!D35 -> 104295.48 | H34: =G34/F34*100-100 -> 241.96417 | I34: 1130.24 | J34: =[1]Табл.2.2!F35 -> 65156 | K34: ↑
A35: 10 | B35: Бюджет Утсалинского СМО | C35: =SUM(F35,I35) -> 43256.95 | D35: =SUM(G35,J35) -> 46730.7 | E35: =D35/C35*100-100 -> 8.0305015 | F35: 33256.95 | G35: =[1]Табл.2.2!D36 -> 46730.7 | H35: =G35/F35*100-100 -> 40.514088 | I35: 10000 | J35: =[1]Табл.2.2!F36 -> 0 | K35: =J35/I35*100-100 -> -100
A36: 11 | B36: Бюджет Хомутниковского СМО | C36: =SUM(F36,I36) -> 113173.2 | D36: =SUM(G36,J36) -> 48793.68 | E36: =D36/C36*100-100 -> -56.885835 | F36: 99365.2 | G36: =[1]Табл.2.2!D37 -> 47641.68 | H36: =G36/F36*100-100 -> -52.053959 | I36: 13808 | J36: =[1]Табл.2.2!F37 -> 1152 | K36: =J36/I36*100-100 -> -91.65701
A37: 12 | B37: Бюджет Чограйского СМО | C37: =SUM(F37,I37) -> 20932.45 | D37: =SUM(G37,J37) -> 45944.57 | E37: =D37/C37*100-100 -> 119.48969 | F37: 20932.45 | G37: =[1]Табл.2.2!D38 -> 45944.57 | H37: =G37/F37*100-100 -> 119.48969 | I37: 0 | J37: =[1]Табл.2.2!F38 -> 0 | K37: 0
A38: 13 | B38: Бюджет Чолунхамурского СМО | C38: =SUM(F38,I38) -> 12465.66 | D38: =SUM(G38,J38) -> 15312.67 | E38: =D38/C38*100-100 -> 22.838823 | F38: 12465.66 | G38: =[1]Табл.2.2!D39 -> 15312.67 | H38: =G38/F38*100-100 -> 22.838823 | I38: 0 | J38: =[1]Табл.2.2!F39 -> 0 | K38: 0
A40: Итого по бюджетам Кетченеровского района: | C40: =SUM(F40,I40) -> 8128162.7 | D40: =SUM(G40,J40) -> 7247072.7 | E40: =D40/C40*100-100 -> -10.839965 | F40: 6349340.4 | G40: =[1]Табл.2.2!D41 -> 6326681.5 | H40: =G40/F40*100-100 -> -0.35687108 | I40: 1778822.2 | J40: =[1]Табл.2.2!F41 -> 920391.21 | K40: =J40/I40*100-100 -> -48.258393
A41: в том числе:
A42: Бюджет Кетченеровского РМО | C42: =SUM(F42,I42) -> 7137716.8 | D42: =SUM(G42,J42) -> 5911483.4 | E42: =D42/C42*100-100 -> -17.17963 | F42: 5377656 | G42: =[1]Табл.2.2!D43 -> 5000122.8 | H42: =G42/F42*100-100 -> -7.0204039 | I42: 1760060.7 | J42: =[1]Табл.2.2!F43 -> 911360.61 | K42: =J42/I42*100-100 -> -48.219934
A43: Бюджеты СМО: | C43: =SUM(F43,I43) -> 990445.91 | D43: =SUM(G43,J43) -> 1335589.2 | E43: =D43/C43*100-100 -> 34.847268 | F43: 971684.44 | G43: =[1]Табл.2.2!D44 -> 1326558.6 | H43: =G43/F43*100-100 -> 36.521549 | I43: 18761.47 | J43: =[1]Табл.2.2!F44 -> 9030.6 | K43: =J43/I43*100-100 -> -51.866245
A44: их них:
...

Sheet Лист2
