Workbook

Sheet 1
A2: Информация по налоговым и неналоговым доходам в разрезе бюджетов Республики Калмыкия, поступивших на счет 03100 УФК по Республике Калмыкия по состоянию
A3: на 01 марта 2022 г.
G4: ед. измерения: рублей
A6: Наименование бюджетов муниципальных образований | C6: Всего | F6: Налоговые доходы | I6: Неналоговые доходы
C7: на 01.03.2021 | D7: на 01.03.2022 | E7: Темп роста, % | F7: на 01.03.2021 | G7: на 01.03.2022 | H7: Темп роста, % | I7: на 01.03.2021 | J7: на 01.03.2022 | K7: Темп роста, %
A8: Итого по бюджетам Городовиковского района: | C8: =SUM(F8,I8) -> 16584911 | D8: =SUM(G8,J8) -> 22202293 | E8: =D8/C8*100-100 -> 33.870439 | F8: 14805820 | G8: =[1]Табл.2.2!D9 -> 19276617 | H8: =G8/F8*100-100 -> 30.196216 | I8: 1779091 | J8: =[1]Табл.2.2!F9 -> 2925675.8 | K8: =J8/I8*100-100 -> 64.447785
A9: в том числе:
A10: Бюджет Городовиковского РМО | C10: =SUM(F10,I10) -> 11829588 | D10: =SUM(G10,J10) -> 16345422 | E10: =D10/C10*100-100 -> 38.174065 | F10: 10156558 | G10: =[1]Табл.2.2!D11 -> 13679328 | H10: =G10/F10*100-100 -> 34.684692 | I10: 1673030 | J10: =[1]Табл.2.2!F11 -> 2666093.8 | K10: =J10/I10*100-100 -> 59.357202
A11: Бюджеты ГМО, СМО: | C11: =SUM(F11,I11) -> 4755322.9 | D11: =SUM(G11,J11) -> 5856870.5 | E11: =D11/C11*100-100 -> 23.164517 | F11: 4649261.9 | G11: =[1]Табл.2.2!D12 -> 5597288.4 | H11: =G11/F11*100-100 -> 20.390905 | I11: 106061.05 | J11: =[1]Табл.2.2!F12 -> 259582.03 | K11: =J11/I11*100-100 -> 144.74775
A12: из них:
A13: 1 | B13: Бюджет Виноградненского СМО | C13: =SUM(F13,I13) -> 405892.54 | D13: =SUM(G13,J13) -> 697330.54 | E13: =D13/C13*100-100 -> 71.801763 | F13: 412017.4 | G13: =[1]Табл.2.2!D14 -> 696346.85 | H13: =G13/F13*100-100 -> 69.009088 | I13: -6124.86 | J13: =[1]Табл.2.2!F14 -> 983.69 | K13: =J13/I13*100-100 -> -116.06061
A14: 2 | B14: Бюджет Дружненского СМО | C14: =SUM(F14,I14) -> 218857.56 | D14: =SUM(G14,J14) -> 194284.81 | E14: =D14/C14*100-100 -> -11.227736 | F14: 214457.56 | G14: =[1]Табл.2.2!D15 -> 150337.6 | H14: =G14/F14*100-100 -> -29.898671 | I14: 4400 | J14: =[1]Табл.2.2!F15 -> 43947.21 | K14: ↑
A15: 3 | B15: Бюджет Лазаревского СМО | C15: =SUM(F15,I15) -> 198798.76 | D15: =SUM(G15,J15) -> 709715.58 | E15: =D15/C15*100-100 -> 257.00202 | F15: 198798.76 | G15: =[1]Табл.2.2!D16 -> 591289.87 | H15: =G15/F15*100-100 -> 197.43137 | I15: 0 | J15: =[1]Табл.2.2!F16 -> 118425.71 | K15: 0
A16: 4 | B16: Бюджет Пушкинского СМО | C16: =SUM(F16,I16) -> 169200.93 | D16: =SUM(G16,J16) -> 194690.65 | E16: =D16/C16*100-100 -> 15.064764 | F16: 169200.93 | G16: =[1]Табл.2.2!D17 -> 191325.09 | H16: =G16/F16*100-100 -> 13.075673 | I16: 0 | J16: =[1]Табл.2.2!F17 -> 3365.56 | K16: 0
A17: 5 | B17: Бюджет Розентальского СМО | C17: =SUM(F17,I17) -> 373208.84 | D17: =SUM(G17,J17) -> 350443.06 | E17: =D17/C17*100-100 -> -6.1000109 | F17: 373208.84 | G17: =[1]Табл.2.2!D18 -> 324857.16 | H17: =G17/F17*100-100 -> -12.955663 | I17: 0 | J17: =[1]Табл.2.2!F18 -> 25585.9 | K17: 0
A18: 6 | B18: Бюджет Южненского СМО | C18: =SUM(F18,I18) -> 179631.17 | D18: =SUM(G18,J18) -> 401777.75 | E18: =D18/C18*100-100 -> 123.66817 | F18: 179631.17 | G18: =[1]Табл.2.2!D19 -> 396093.32 | H18: =G18/F18*100-100 -> 120.50367 | I18: 0 | J18: =[1]Табл.2.2!F19 -> 5684.43 | K18: 0
A19: 7 | B19: Бюджет Городовиковского ГМО | C19: =SUM(F19,I19) -> 3209733.1 | D19: =SUM(G19,J19) -> 3308628.1 | E19: =D19/C19*100-100 -> 3.0810967 | F19: 3101947.2 | G19: =[1]Табл.2.2!D20 -> 3247038.6 | H19: =G19/F19*100-100 -> 4.6774284 | I19: 107785.91 | J19: =[1]Табл.2.2!F20 -> 61589.53 | K19: =J19/I19*100-100 -> -42.859387
A21: Итого по бюджетам Ики-Бурульского района: | C21: =SUM(F21,I21) -> 8835417.4 | D21: =SUM(G21,J21) -> 15577027 | E21: =D21/C21*100-100 -> 76.302102 | F21: 7736133.4 | G21: =[1]Табл.2.2!D22 -> 11836486 | H21: =G21/F21*100-100 -> 53.002605 | I21: 1099284 | J21: =[1]Табл.2.2!F22 -> 3740540.9 | K21: =J21/I21*100-100 -> 240.27067
A22: в том числе:
A23: Бюджет Ики-Бурульского РМО | C23: =SUM(F23,I23) -> 7733638 | D23: =SUM(G23,J23) -> 13502675 | E23: =D23/C23*100-100 -> 74.596676 | F23: 6675655 | G23: =[1]Табл.2.2!D24 -> 10041226 | H23: =G23/F23*100-100 -> 50.415599 | I23: 1057983 | J23: =[1]Табл.2.2!F24 -> 3461448.4 | K23: =J23/I23*100-100 -> 227.1743
A24: Бюджеты СМО: | C24: =SUM(F24,I24) -> 1101779.4 | D24: =SUM(G24,J24) -> 2074351.6 | E24: =D24/C24*100-100 -> 88.27287 | F24: 1060478.4 | G24: =[1]Табл.2.2!D25 -> 1795259.1 | H24: =G24/F24*100-100 -> 69.287672 | I24: 41301 | J24: =[1]Табл.2.2!F25 -> 279092.5 | K24: ↑
A25: их них:
A26: 1 | B26: Бюджет Багабурульского СМО | C26: =SUM(F26,I26) -> 52184.71 | D26: =SUM(G26,J26) -> 73730.35 | E26: =D26/C26*100-100 -> 41.287266 | F26: 51684.71 | G26: =[1]Табл.2.2!D27 -> 56080.35 | H26: =G26/F26*100-100 -> 8.5047203 | I26: 500 | J26: =[1]Табл.2.2!F27 -> 17650 | K26: ↑
A27: 2 | B27: Бюджет Зундатолгинского СМО | C27: =SUM(F27,I27) -> 38129.36 | D27: =SUM(G27,J27) -> 33925.95 | E27: =D27/C27*100-100 -> -11.024077 | F27: 38129.36 | G27: =[1]Табл.2.2!D28 -> 33925.95 | H27: =G27/F27*100-100 -> -11.024077 | I27: 0 | J27: =[1]Табл.2.2!F28 -> 0 | K27: 0
A28: 3 | B28: Бюджет Ики-Бурульского СМО | C28: =SUM(F28,I28) -> 574694.75 | D28: =SUM(G28,J28) -> 925222.39 | E28: =D28/C28*100-100 -> 60.993708 | F28: 571834.05 | G28: =[1]Табл.2.2!D29 -> 890422.39 | H28: =G28/F28*100-100 -> 55.713426 | I28: 2860.7 | J28: =[1]Табл.2.2!F29 -> 34800 | K28: ↑
A29: 4 | B29: Бюджет Кевюдовского СМО | C29: =SUM(F29,I29) -> 64125.8 | D29: =SUM(G29,J29) -> 167117.19 | E29: =D29/C29*100-100 -> 160.60835 | F29: 64125.8 | G29: =[1]Табл.2.2!D30 -> 167117.19 | H29: =G29/F29*100-100 -> 160.60835 | I29: 0 | J29: =[1]Табл.2.2!F30 -> 0 | K29: 0
A30: 5 | B30: Бюджет Манцынкецовского СМО | C30: =SUM(F30,I30) -> 12004.46 | D30: =SUM(G30,J30) -> 145153.57 | E30: ↑ | F30: 12004.46 | G30: =[1]Табл.2.2!D31 -> 145153.57 | H30: ↑ | I30: 0 | J30: =[1]Табл.2.2!F31 -> 0 | K30: 0
A31: 6 | B31: Бюджет Манычского СМО | C31: =SUM(F31,I31) -> 76731.18 | D31: =SUM(G31,J31) -> 219582.41 | E31: =D31/C31*100-100 -> 186.17103 | F31: 65008.18 | G31: =[1]Табл.2.2!D32 -> 76734.41 | H31: =G31/F31*100-100 -> 18.038084 | I31: 11723 | J31: =[1]Табл.2.2!F32 -> 142848 | K31: ↑
A32: 7 | B32: Бюджет Оргакинского СМО | C32: =SUM(F32,I32) -> 44683.91 | D32: =SUM(G32,J32) -> 93242.09 | E32: =D32/C32*100-100 -> 108.67039 | F32: 43404.85 | G32: =[1]Табл.2.2!D33 -> 76755.59 | H32: =G32/F32*100-100 -> 76.836436 | I32: 1279.06 | J32: =[1]Табл.2.2!F33 -> 16486.5 | K32: ↑
A33: 8 | B33: Бюджет Приманычского СМО | C33: =SUM(F33,I33) -> 17767.75 | D33: =SUM(G33,J33) -> 90144.59 | E33: =D33/C33*100-100 -> 407.3495 | F33: 17767.75 | G33: =[1]Табл.2.2!D34 -> 89144.59 | H33: =G33/F33*100-100 -> 401.72132 | I33: 0 | J33: =[1]Табл.2.2!F34 -> 1000 | K33: 0
A34: 9 | B34: Бюджет Светловского СМО | C34: =SUM(F34,I34) -> 31629.19 | D34: =SUM(G34,J34) -> 169451.48 | E34: =D34/C34*100-100 -> 435.74398 | F34: 30498.95 | G34: =[1]Табл.2.2!D35 -> 104295.48 | H34: =G34/F34*100-100 -> 241.96417 | I34: 1130.24 | J34: =[1]Табл.2.2!F35 -> 65156 | K34: ↑
A35: 10 | B35: Бюджет Утсалинского СМО | C35: =SUM(F35,I35) -> 43256.95 | D35: =SUM(G35,J35) -> 46730.7 | E35: =D35/C35*100-100 -> 8.0305015 | F35: 33256.95 | G35: =[1]Табл.2.2!D36 -> 46730.7 | H35: =G35/F35*100-100 -> 40.514088 | I35: 10000 | J35: =[1]Табл.2.2!F36 -> 0 | K35: =J35/I35*100-100 -> -100
A36: 11 | B36: Бюджет Хомутниковского СМО | C36: =SUM(F36,I36) -> 113173.2 | D36: =SUM(G36,J36) -> 48793.68 | E36: =D36/C36*100-100 -> -56.885835 | F36: 99365.2 | G36: =[1]Табл.2.2!D37 -> 47641.68 | H36: =G36/F36*100-100 -> -52.053959 | I36: 13808 | J36: =[1]Табл.2.2!F37 -> 1152 | K36: =J36/I36*100-100 -> -91.65701
A37: 12 | B37: Бюджет Чограйского СМО | C37: =SUM(F37,I37) -> 20932.45 | D37: =SUM(G37,J37) -> 45944.57 | E37: =D37/C37*100-100 -> 119.48969 | F37: 20932.45 | G37: =[1]Табл.2.2!D38 -> 45944.57 | H37: =G37/F37*100-100 -> 119.48969 | I37: 0 | J37: =[1]Табл.2.2!F38 -> 0 | K37: 0
A38: 13 | B38: Бюджет Чолунхамурского СМО | C38: =SUM(F38,I38) -> 12465.66 | D38: =SUM(G38,J38) -> 15312.67 | E38: =D38/C38*100-100 -> 22.838823 | F38: 12465.66 | G38: =[1]Табл.2.2!D39 -> 15312.67 | H38: =G38/F38*100-100 -> 22.838823 | I38: 0 | J38: =[1]Табл.2.2!F39 -> 0 | K38: 0
A40: Итого по бюджетам Кетченеровского района: | C40: =SUM(F40,I40) -> 8128162.7 | D40: =SUM(G40,J40) -> 7247072.7 | E40: =D40/C40*100-100 -> -10.839965 | F40: 6349340.4 | G40: =[1]Табл.2.2!D41 -> 6326681.5 | H40: =G40/F40*100-100 -> -0.35687108 | I40: 1778822.2 | J40: =[1]Табл.2.2!F41 -> 920391.21 | K40: =J40/I40*100-100 -> -48.258393
A41: в том числе:
A42: Бюджет Кетченеровского РМО | C42: =SUM(F42,I42) -> 7137716.8 | D42: =SUM(G42,J42) -> 5911483.4 | E42: =D42/C42*100-100 -> -17.17963 | F42: 5377656 | G42: =[1]Табл.2.2!D43 -> 5000122.8 | H42: =G42/F42*100-100 -> -7.0204039 | I42: 1760060.7 | J42: =[1]Табл.2.2!F43 -> 911360.61 | K42: =J42/I42*100-100 -> -48.219934
A43: Бюджеты СМО: | C43: =SUM(F43,I43) -> 990445.91 | D43: =SUM(G43,J43) -> 1335589.2 | E43: =D43/C43*100-100 -> 34.847268 | F43: 971684.44 | G43: =[1]Табл.2.2!D44 -> 1326558.6 | H43: =G43/F43*100-100 -> 36.521549 | I43: 18761.47 | J43: =[1]Табл.2.2!F44 -> 9030.6 | K43: =J43/I43*100-100 -> -51.866245
A44: их них:
A45: 1 | B45: Бюджет Алцынхутинского СМО | C45: =SUM(F45,I45) -> 81818.56 | D45: =SUM(G45,J45) -> 78250 | E45: =D45/C45*100-100 -> -4.3615532 | F45: 72218.56 | G45: =[1]Табл.2.2!D46 -> 76219.4 | H45: =G45/F45*100-100 -> 5.5399055 | I45: 9600 | J45: =[1]Табл.2.2!F46 -> 2030.6 | K45: =J45/I45*100-100 -> -78.847917
A46: 2 | B46: Бюджет Гашун-Бургустинского СМО | C46: =SUM(F46,I46) -> 43294.23 | D46: =SUM(G46,J46) -> 54671.79 | E46: =D46/C46*100-100 -> 26.279622 | F46: 43294.23 | G46: =[1]Табл.2.2!D47 -> 54671.79 | H46: =G46/F46*100-100 -> 26.279622 | I46: 0 | J46: =[1]Табл.2.2!F47 -> 0 | K46: 0
A47: 3 | B47: Бюджет Ергенинского СМО | C47: =SUM(F47,I47) -> 66220.5 | D47: =SUM(G47,J47) -> 74518.47 | E47: =D47/C47*100-100 -> 12.530817 | F47: 63668.32 | G47: =[1]Табл.2.2!D48 -> 74518.47 | H47: =G47/F47*100-100 -> 17.041678 | I47: 2552.18 | J47: =[1]Табл.2.2!F48 -> 0 | K47: =J47/I47*100-100 -> -100
A48: 4 | B48: Бюджет Кегультинского СМО | C48: =SUM(F48,I48) -> 47280.37 | D48: =SUM(G48,J48) -> -1726.55 | E48: =D48/C48*100-100 -> -103.65173 | F48: 47280.37 | G48: =[1]Табл.2.2!D49 -> -1726.55 | H48: =G48/F48*100-100 -> -103.65173 | I48: 0 | J48: =[1]Табл.2.2!F49 -> 0 | K48: 0
A49: 5 | B49: Бюджет Кетченеровского СМО | C49: =SUM(F49,I49) -> 417838.46 | D49: =SUM(G49,J49) -> 604613.91 | E49: =D49/C49*100-100 -> 44.700397 | F49: 411229.17 | G49: =[1]Табл.2.2!D50 -> 597613.91 | H49: =G49/F49*100-100 -> 45.323813 | I49: 6609.29 | J49: =[1]Табл.2.2!F50 -> 7000 | K49: =J49/I49*100-100 -> 5.9115276
A50: 6 | B50: Бюджет Сарпинского СМО | C50: =SUM(F50,I50) -> 84904.62 | D50: =SUM(G50,J50) -> 148098.73 | E50: =D50/C50*100-100 -> 74.42953 | F50: 84904.62 | G50: =[1]Табл.2.2!D51 -> 148098.73 | H50: =G50/F50*100-100 -> 74.42953 | I50: 0 | J50: =[1]Табл.2.2!F51 -> 0 | K50: 0
A51: 7 | B51: Бюджет Тугтунского СМО | C51: =SUM(F51,I51) -> 58108.27 | D51: =SUM(G51,J51) -> 109577.01 | E51: =D51/C51*100-100 -> 88.573864 | F51: 58108.27 | G51: =[1]Табл.2.2!D52 -> 109577.01 | H51: =G51/F51*100-100 -> 88.573864 | I51: 0 | J51: =[1]Табл.2.2!F52 -> 0 | K51: 0
A52: 8 | B52: Бюджет Чкаловского СМО | C52: =SUM(F52,I52) -> 82786.18 | D52: =SUM(G52,J52) -> 118161.3 | E52: =D52/C52*100-100 -> 42.730707 | F52: 82786.18 | G52: =[1]Табл.2.2!D53 -> 118161.3 | H52: =G52/F52*100-100 -> 42.730707 | I52: 0 | J52: =[1]Табл.2.2!F53 -> 0 | K52: 0
A53: 9 | B53: Бюджет Шаттинского СМО | C53: =SUM(F53,I53) -> 108194.72 | D53: =SUM(G53,J53) -> 149424.59 | E53: =D53/C53*100-100 -> 38.1071 | F53: 108194.72 | G53: =[1]Табл.2.2!D54 -> 149424.59 | H53: =G53/F53*100-100 -> 38.1071 | I53: 0 | J53: =[1]Табл.2.2!F54 -> 0 | K53: 0
A55: Итого по бюджетам Лаганского района: | C55: =SUM(F55,I55) -> 11088469 | D55: =SUM(G55,J55) -> 12605928 | E55: =D55/C55*100-100 -> 13.685024 | F55: 9781265.8 | G55: =[1]Табл.2.2!D56 -> 10651891 | H55: =G55/F55*100-100 -> 8.9009494 | I55: 1307203 | J55: =[1]Табл.2.2!F56 -> 1954037.1 | K55: =J55/I55*100-100 -> 49.482296
A56: в том числе:
A57: Бюджет Лаганского РМО | C57: =SUM(F57,I57) -> 8481409.9 | D57: =SUM(G57,J57) -> 9704126.7 | E57: =D57/C57*100-100 -> 14.416434 | F57: 7536437.4 | G57: =[1]Табл.2.2!D58 -> 8134078.7 | H57: =G57/F57*100-100 -> 7.9300237 | I57: 944972.47 | J57: =[1]Табл.2.2!F58 -> 1570048.1 | K57: =J57/I57*100-100 -> 66.147493
A58: Бюджеты ГМО, СМО: | C58: =SUM(F58,I58) -> 2607059 | D58: =SUM(G58,J58) -> 2901801.7 | E58: =D58/C58*100-100 -> 11.305564 | F58: 2244828.4 | G58: =[1]Табл.2.2!D59 -> 2517812.6 | H58: =G58/F58*100-100 -> 12.160584 | I58: 362230.58 | J58: =[1]Табл.2.2!F59 -> 383989.06 | K58: =J58/I58*100-100 -> 6.0068037
A59: из них:
A60: 1 | B60: Бюджет Джалыковского СМО | C60: =SUM(F60,I60) -> 22673.56 | D60: =SUM(G60,J60) -> 62445.01 | E60: =D60/C60*100-100 -> 175.40893 | F60: 22673.56 | G60: =[1]Табл.2.2!D61 -> 62445.01 | H60: =G60/F60*100-100 -> 175.40893 | I60: 0 | J60: =[1]Табл.2.2!F61 -> 0 | K60: 0
A61: 2 | B61: Бюджет Красинского СМО | C61: =SUM(F61,I61) -> 7205.96 | D61: =SUM(G61,J61) -> 23398.67 | E61: =D61/C61*100-100 -> 224.71274 | F61: 12005.96 | G61: =[1]Табл.2.2!D62 -> 23398.67 | H61: =G61/F61*100-100 -> 94.89212 | I61: -4800 | J61: =[1]Табл.2.2!F62 -> 0 | K61: =J61/I61*100-100 -> -100
A62: 3 | B62: Бюджет Северного СМО | C62: =SUM(F62,I62) -> 185969.28 | D62: =SUM(G62,J62) -> 27842.49 | E62: =D62/C62*100-100 -> -85.028447 | F62: 14469.28 | G62: =[1]Табл.2.2!D63 -> 27842.49 | H62: =G62/F62*100-100 -> 92.424848 | I62: 171500 | J62: =[1]Табл.2.2!F63 -> 0 | K62: =J62/I62*100-100 -> -100
A63: 4 | B63: Бюджет Улан-Хольского СМО | C63: =SUM(F63,I63) -> 225669.29 | D63: =SUM(G63,J63) -> 120763.82 | E63: =D63/C63*100-100 -> -46.486374 | F63: 229669.29 | G63: =[1]Табл.2.2!D64 -> 120763.82 | H63: =G63/F63*100-100 -> -47.418386 | I63: -4000 | J63: =[1]Табл.2.2!F64 -> 0 | K63: =J63/I63*100-100 -> -100
A64: 5 | B64: Бюджет Лаганского ГМО | C64: =SUM(F64,I64) -> 2165540.9 | D64: =SUM(G64,J64) -> 2667351.7 | E64: =D64/C64*100-100 -> 23.17254 | F64: 1966010.3 | G64: =[1]Табл.2.2!D65 -> 2283362.6 | H64: =G64/F64*100-100 -> 16.141948 | I64: 199530.58 | J64: =[1]Табл.2.2!F65 -> 383989.06 | K64: =J64/I64*100-100 -> 92.446221
A66: Итого по бюджетам Малодербетовского района: | C66: =SUM(F66,I66) -> 8142866.4 | D66: =SUM(G66,J66) -> 11767062 | E66: =D66/C66*100-100 -> 44.507616 | F66: 6384048.6 | G66: =[1]Табл.2.2!D67 -> 9884700.9 | H66: =G66/F66*100-100 -> 54.834361 | I66: 1758817.7 | J66: =[1]Табл.2.2!F67 -> 1882361.2 | K66: =J66/I66*100-100 -> 7.0242304
A67: в том числе:
A68: Бюджет Малодербетовского РМО | C68: =SUM(F68,I68) -> 7175387.1 | D68: =SUM(G68,J68) -> 9413109 | E68: =D68/C68*100-100 -> 31.186079 | F68: 5427729 | G68: =[1]Табл.2.2!D69 -> 8056142.6 | H68: =G68/F68*100-100 -> 48.425659 | I68: 1747658.1 | J68: =[1]Табл.2.2!F69 -> 1356966.4 | K68: =J68/I68*100-100 -> -22.355156
A69: Бюджеты СМО: | C69: =SUM(F69,I69) -> 967479.28 | D69: =SUM(G69,J69) -> 2353953.1 | E69: =D69/C69*100-100 -> 143.30786 | F69: 956319.6 | G69: =[1]Табл.2.2!D70 -> 1828558.3 | H69: =G69/F69*100-100 -> 91.20787 | I69: 11159.68 | J69: =[1]Табл.2.2!F70 -> 525394.78 | K69: ↑
A70: из них:
A71: 1 | B71: Бюджет Ики-Бухусовского СМО | C71: =SUM(F71,I71) -> 33549.72 | D71: =SUM(G71,J71) -> 71494.88 | E71: =D71/C71*100-100 -> 113.10127 | F71: 33549.72 | G71: =[1]Табл.2.2!D72 -> 71494.88 | H71: =G71/F71*100-100 -> 113.10127 | I71: 0 | J71: =[1]Табл.2.2!F72 -> 0 | K71: 0
A72: 2 | B72: Малодербетовского СМО | C72: =SUM(F72,I72) -> 774317.46 | D72: =SUM(G72,J72) -> 1942971.5 | E72: =D72/C72*100-100 -> 150.92699 | F72: 750457.78 | G72: =[1]Табл.2.2!D73 -> 1446576.8 | H72: =G72/F72*100-100 -> 92.759245 | I72: 23859.68 | J72: =[1]Табл.2.2!F73 -> 496394.78 | K72: ↑
A73: 3 | B73: Плодовитенского СМО | C73: =SUM(F73,I73) -> 55615.97 | D73: =SUM(G73,J73) -> 125772.4 | E73: =D73/C73*100-100 -> 126.1444 | F73: 62315.97 | G73: =[1]Табл.2.2!D74 -> 125772.4 | H73: =G73/F73*100-100 -> 101.83012 | I73: -6700 | J73: =[1]Табл.2.2!F74 -> 0 | K73: =J73/I73*100-100 -> -100
A74: 4 | B74: Тундутовского СМО | C74: =SUM(F74,I74) -> 62434.53 | D74: =SUM(G74,J74) -> 93574.88 | E74: =D74/C74*100-100 -> 49.876807 | F74: 68934.53 | G74: =[1]Табл.2.2!D75 -> 93574.88 | H74: =G74/F74*100-100 -> 35.744568 | I74: -6500 | J74: =[1]Табл.2.2!F75 -> 0 | K74: =J74/I74*100-100 -> -100
A75: 5 | B75: Ханатинского СМО | C75: =SUM(F75,I75) -> 35089.21 | D75: =SUM(G75,J75) -> 72142.47 | E75: =D75/C75*100-100 -> 105.5973 | F75: 35089.21 | G75: =[1]Табл.2.2!D76 -> 72142.47 | H75: =G75/F75*100-100 -> 105.5973 | I75: 0 | J75: =[1]Табл.2.2!F76 -> 0 | K75: 0
A76: 6 | B76: Бюджет Хончнурского СМО | C76: =SUM(F76,I76) -> 6472.39 | D76: =SUM(G76,J76) -> 47996.96 | E76: ↑ | F76: 5972.39 | G76: =[1]Табл.2.2!D77 -> 18996.96 | H76: =G76/F76*100-100 -> 218.0797 | I76: 500 | J76: =[1]Табл.2.2!F77 -> 29000 | K76: ↑
A78: Итого по бюджетам Октябрьского района: | C78: =SUM(F78,I78) -> 6428878.3 | D78: =SUM(G78,J78) -> 8894043.1 | E78: =D78/C78*100-100 -> 38.345177 | F78: 5121325.6 | G78: =[1]Табл.2.2!D79 -> 7797638.7 | H78: =G78/F78*100-100 -> 52.258208 | I78: 1307552.7 | J78: =[1]Табл.2.2!F79 -> 1096404.4 | K78: =J78/I78*100-100 -> -16.148356
A79: в том числе:
A80: Бюджет Октябрьского РМО | C80: =SUM(F80,I80) -> 5638140.3 | D80: =SUM(G80,J80) -> 7806670.1 | E80: =D80/C80*100-100 -> 38.461793 | F80: 4520787.6 | G80: =[1]Табл.2.2!D81 -> 6833915.7 | H80: =G80/F80*100-100 -> 51.166485 | I80: 1117352.7 | J80: =[1]Табл.2.2!F81 -> 972754.4 | K80: =J80/I80*100-100 -> -12.941148
A81: Бюджеты СМО: | C81: =SUM(F81,I81) -> 790738.04 | D81: =SUM(G81,J81) -> 1087373 | E81: =D81/C81*100-100 -> 37.513678 | F81: 600538.04 | G81: =[1]Табл.2.2!D82 -> 963722.96 | H81: =G81/F81*100-100 -> 60.476589 | I81: 190200 | J81: =[1]Табл.2.2!F82 -> 123650 | K81: =J81/I81*100-100 -> -34.989485
A82: из них:
A83: 1 | B83: Бюджет Большецарынского СМО | C83: =SUM(F83,I83) -> 444732.32 | D83: =SUM(G83,J83) -> 792441.5 | E83: =D83/C83*100-100 -> 78.183924 | F83: 424232.32 | G83: =[1]Табл.2.2!D84 -> 668791.5 | H83: =G83/F83*100-100 -> 57.647465 | I83: 20500 | J83: =[1]Табл.2.2!F84 -> 123650 | K83: ↑
A84: 2 | B84: Бюджет Восходовского СМО | C84: =SUM(F84,I84) -> 9894.85 | D84: =SUM(G84,J84) -> 24443.57 | E84: =D84/C84*100-100 -> 147.03325 | F84: 10194.85 | G84: =[1]Табл.2.2!D85 -> 24443.57 | H84: =G84/F84*100-100 -> 139.7639 | I84: -300 | J84: =[1]Табл.2.2!F85 -> 0 | K84: =J84/I84*100-100 -> -100
A85: 3 | B85: Бюджет Джангарского СМО | C85: =SUM(F85,I85) -> 18907.11 | D85: =SUM(G85,J85) -> 20842.34 | E85: =D85/C85*100-100 -> 10.235462 | F85: 18907.11 | G85: =[1]Табл.2.2!D86 -> 20842.34 | H85: =G85/F85*100-100 -> 10.235462 | I85: 0 | J85: =[1]Табл.2.2!F86 -> 0 | K85: 0
A86: 4 | B86: Бюджет Иджилского СМО | C86: =SUM(F86,I86) -> 202317.78 | D86: =SUM(G86,J86) -> 31833.58 | E86: =D86/C86*100-100 -> -84.265555 | F86: 32317.78 | G86: =[1]Табл.2.2!D87 -> 31833.58 | H86: =G86/F86*100-100 -> -1.4982465 | I86: 170000 | J86: =[1]Табл.2.2!F87 -> 0 | K86: =J86/I86*100-100 -> -100
A87: 5 | B87: Бюджет Мирненского СМО | C87: =SUM(F87,I87) -> 50940.14 | D87: =SUM(G87,J87) -> 13220.38 | E87: =D87/C87*100-100 -> -74.047225 | F87: 50940.14 | G87: =[1]Табл.2.2!D88 -> 13220.38 | H87: =G87/F87*100-100 -> -74.047225 | I87: 0 | J87: =[1]Табл.2.2!F88 -> 0 | K87: 0
A88: 6 | B88: Бюджет Хошеутовского СМО | C88: =SUM(F88,I88) -> 14280.99 | D88: =SUM(G88,J88) -> 154746.95 | E88: ↑ | F88: 14280.99 | G88: =[1]Табл.2.2!D89 -> 154746.95 | H88: ↑ | I88: 0 | J88: =[1]Табл.2.2!F89 -> 0 | K88: 0
A89: 7 | B89: Бюджет Цаган-Нурского СМО | C89: =SUM(F89,I89) -> 49664.85 | D89: =SUM(G89,J89) -> 49844.64 | E89: =D89/C89*100-100 -> 0.36200653 | F89: 49664.85 | G89: =[1]Табл.2.2!D90 -> 49844.64 | H89: =G89/F89*100-100 -> 0.36200653 | I89: 0 | J89: =[1]Табл.2.2!F90 -> 0 | K89: 0
A91: Итого по бюджетам Приютненского района: | C91: =SUM(F91,I91) -> 8270967 | D91: =SUM(G91,J91) -> 12531241 | E91: =D91/C91*100-100 -> 51.508771 | F91: 6369856.3 | G91: =[1]Табл.2.2!D92 -> 11514320 | H91: =G91/F91*100-100 -> 80.762628 | I91: 1901110.8 | J91: =[1]Табл.2.2!F92 -> 1016920.9 | K91: =J91/I91*100-100 -> -46.509118
A92: в том числе:
A93: Бюджет Приютненского РМО | C93: =SUM(F93,I93) -> 7280234.5 | D93: =SUM(G93,J93) -> 11108888 | E93: =D93/C93*100-100 -> 52.589704 | F93: 5372600.1 | G93: =[1]Табл.2.2!D94 -> 10092267 | H93: =G93/F93*100-100 -> 87.846985 | I93: 1907634.4 | J93: =[1]Табл.2.2!F94 -> 1016620.9 | K93: =J93/I93*100-100 -> -46.70777
A94: Бюджеты СМО: | C94: =SUM(F94,I94) -> 990732.58 | D94: =SUM(G94,J94) -> 1422352.4 | E94: =D94/C94*100-100 -> 43.565719 | F94: 997256.2 | G94: =[1]Табл.2.2!D95 -> 1422052.4 | H94: =G94/F94*100-100 -> 42.596491 | I94: -6523.62 | J94: =[1]Табл.2.2!F95 -> 300 | K94: =J94/I94*100-100 -> -104.59867
A95: из них:
A96: 1 | B96: Бюджет Булуктинского СМО | C96: =SUM(F96,I96) -> 35634.36 | D96: =SUM(G96,J96) -> 49334.33 | E96: =D96/C96*100-100 -> 38.445955 | F96: 35634.36 | G96: =[1]Табл.2.2!D97 -> 49334.33 | H96: =G96/F96*100-100 -> 38.445955 | I96: 0 | J96: =[1]Табл.2.2!F97 -> 0 | K96: 0
A97: 2 | B97: Бюджет Воробьевского СМО | C97: =SUM(F97,I97) -> 108408.13 | D97: =SUM(G97,J97) -> 43302.59 | E97: =D97/C97*100-100 -> -60.055957 | F97: 108408.13 | G97: =[1]Табл.2.2!D98 -> 43302.59 | H97: =G97/F97*100-100 -> -60.055957 | I97: 0 | J97: =[1]Табл.2.2!F98 -> 0 | K97: 0
A98: 3 | B98: Бюджет Нартинского СМО | C98: =SUM(F98,I98) -> 76392.4 | D98: =SUM(G98,J98) -> 124391.79 | E98: =D98/C98*100-100 -> 62.832677 | F98: 76392.4 | G98: =[1]Табл.2.2!D99 -> 124391.79 | H98: =G98/F98*100-100 -> 62.832677 | I98: 0 | J98: =[1]Табл.2.2!F99 -> 0 | K98: 0
A99: 4 | B99: Бюджет Октябрьского СМО | C99: =SUM(F99,I99) -> 38848.88 | D99: =SUM(G99,J99) -> 42625.47 | E99: =D99/C99*100-100 -> 9.7212326 | F99: 38848.88 | G99: =[1]Табл.2.2!D100 -> 42625.47 | H99: =G99/F99*100-100 -> 9.7212326 | I99: 0 | J99: =[1]Табл.2.2!F100 -> 0 | K99: 0
A100: 5 | B100: Бюджет Первомайского СМО | C100: =SUM(F100,I100) -> 28465.07 | D100: =SUM(G100,J100) -> 204335.6 | E100: ↑ | F100: 28465.07 | G100: =[1]Табл.2.2!D101 -> 204335.6 | H100: ↑ | I100: 0 | J100: =[1]Табл.2.2!F101 -> 0 | K100: 0
A101: 6 | B101: Бюджет Песчаного СМО | C101: =SUM(F101,I101) -> 267364.72 | D101: =SUM(G101,J101) -> 72385.37 | E101: =D101/C101*100-100 -> -72.926357 | F101: 267664.72 | G101: =[1]Табл.2.2!D102 -> 72385.37 | H101: =G101/F101*100-100 -> -72.956701 | I101: -300 | J101: =[1]Табл.2.2!F102 -> 0 | K101: =J101/I101*100-100 -> -100
A102: 7 | B102: Бюджет Приютненского СМО | C102: =SUM(F102,I102) -> 409017.25 | D102: =SUM(G102,J102) -> 804623.7 | E102: =D102/C102*100-100 -> 96.721214 | F102: 413617.25 | G102: =[1]Табл.2.2!D103 -> 804323.7 | H102: =G102/F102*100-100 -> 94.460869 | I102: -4600 | J102: =[1]Табл.2.2!F103 -> 300 | K102: =J102/I102*100-100 -> -106.52174
A103: 8 | B103: Бюджет Ульдючинского СМО | C103: =SUM(F103,I103) -> 26601.77 | D103: =SUM(G103,J103) -> 81353.5 | E103: =D103/C103*100-100 -> 205.81988 | F103: 28225.39 | G103: =[1]Табл.2.2!D104 -> 81353.5 | H103: =G103/F103*100-100 -> 188.22808 | I103: -1623.62 | J103: =[1]Табл.2.2!F104 -> 0 | K103: =J103/I103*100-100 -> -100
A105: Итого по бюджетам Сарпинского района: | C105: =SUM(F105,I105) -> 10436032 | D105: =SUM(G105,J105) -> 10149559 | E105: =D105/C105*100-100 -> -2.745039 | F105: 9499025.9 | G105: =[1]Табл.2.2!D106 -> 8945778.5 | H105: =G105/F105*100-100 -> -5.8242539 | I105: 937006.55 | J105: =[1]Табл.2.2!F106 -> 1203780.8 | K105: =J105/I105*100-100 -> 28.470903
A106: в том числе:
A107: Бюджет Сарпинского РМО | C107: =SUM(F107,I107) -> 7790229.8 | D107: =SUM(G107,J107) -> 8433857.7 | E107: =D107/C107*100-100 -> 8.261989 | F107: 6853223.2 | G107: =[1]Табл.2.2!D108 -> 7230876.9 | H107: =G107/F107*100-100 -> 5.5105997 | I107: 937006.55 | J107: =[1]Табл.2.2!F108 -> 1202980.8 | K107: =J107/I107*100-100 -> 28.385525
A108: Бюджеты СМО: | C108: =SUM(F108,I108) -> 2645802.7 | D108: =SUM(G108,J108) -> 1715701.6 | E108: =D108/C108*100-100 -> -35.153835 | F108: 2645802.7 | G108: =[1]Табл.2.2!D109 -> 1714901.6 | H108: =G108/F108*100-100 -> -35.184071 | I108: 0 | J108: =[1]Табл.2.2!F109 -> 800 | K108: 0
A109: из них:
...

Sheet Лист2
